Workbook
Name Engangsvederlag: [1]Forudsætninger!$H$73:$K$74
Name Forhøjetpens.: Forudsætninger!#REF!
Name Forhøjetpension: Forudsætninger!$L$37
Name Fremskrivning: Tabel1[[Årsfremskrivning ]:[Generel pris- og lønstigning, pct.]]
Name Kommuneliste: Forudsætninger!$P$6:$P$104
Name Kommunenavn: Forudsætninger!$P$6:$Q$104
Name Kommunetakst: #REF!
Name Kommunetakst2: #REF!
Name kommunetakster: #REF!
Name Kommunetakster1: #REF!
Name Kommunetakster10: #REF!
Name Kommunetakster14: #REF!
Name Kommunetakstsosu: #REF!
Name Lønsatsdatoer: #REF!
Name Lønsatsdatoer1: #REF!
Name Lønsatsdatoer2: #REF!
Name Lønsatsdatoer3: #REF!
Name Lønsatsdatoer4: #REF!
Name Lønsatser: Forudsætninger!$B$10:$G$31
Name Løntrin: Forudsætninger!$B$10:$B$31
Name Løntrin2: Forudsætninger!#REF!
Name SSA: Forudsætninger!$I$18:$I$21
Name SSA.: Forudsætninger!$I$18:$I$21
Name SSAløn: Forudsætninger!$I$18:$I$22
Name SSAtillæg: Forudsætninger!$I$18:$J$21
Name SSATillæg.: Forudsætninger!$I$18:$J$22
Name SSH: Forudsætninger!$I$9:$I$12
Name SSH.: Forudsætninger!$I$9:$I$12
Name SSHløn: Forudsætninger!$I$9:$I$13
Name SSHtillæg: Forudsætninger!$I$9:$J$12
Name SSHTillæg.: Forudsætninger!$I$9:$J$13
Name Stedtillæg: Forudsætninger!$C$9:$G$9
Name Stedtillæg2: Forudsætninger!#REF!
Name Timepriser: Forudsætninger!$C$10:$G$31
Name Timepriser2: Forudsætninger!#REF!
Name Vælg: Forudsætninger!$R$1:$R$3

Sheet Administration
A1: Beregning af administrationsbidrag
A3: OBS: Indtast/vælg egne værdier i de BLÅ FELTER i de 4 første ark.
A4: Få overblikket i det sidste ark "Budgetark"
A6: Beregning af Administrationsbidrag
F7: Årligt tilskud
B8: Samlet udmåling - vælg overenskomst | C8: BPA-HHOK | D8: =IF(C8="BPA-HHOK",Budgetark!B21,Budgetark!C21) -> #DIV/0!
B9: Tilskud til arbejdsgiveropgaver (overheadprocent) | D9: 0 | F9: =D8*D9 -> #DIV/0!
B10: Lønadministration pr. hjælper | D10: =+IF(C8="BPA-HHOK",ROUND(E59,2)*Budgetark!G6/Budgetark!G7,ROUND(E59,2)*Budgetark!J6/Budgetark!J7) -> 2372.06 | F10: =D10*F27 -> 0
B11: Tilskud i alt | F11: =F10+F9 -> #DIV/0!
A13: Hjælp til at fastsætte overheadprocent.
B14: Jf. KL's notat "Beregning af tilskud til borgerstyret personlig assistance (BPA)" afsnit 3.4 fra oktober 2010: "Model 2: Overheadberegning af tilskud til arbejdsgiveropgaven Kommunen kan beregne tilskuddet til arbejdsgiveropgaven som en fast overhead-procent af tilskuddet til BPA. "
B15: KREVI – Det Kommunale og Regionale Evalueringsinstitut udgav i februar 2011 analysen; ”Sammenligning af kommunernes administration: To metoder – to resultater”. Af denne analyse fremgår, at ”på landsplan udgør administrationsudgifter 8,7 % af nettodriftsudgifterne opgjort ud fra regnskabsdata og 9,2 %, hvis vi opgør det med målet for personaledata.” (p. 16).
B16: Brug beregneren "Beregning af administrationsbidrag BPA" | C16: på Dansk Erhvervs hjemmeside til at beregne overheadprocenten præcist svarende til de konkrete forhold.
A18: Baggrund for beregning af lønadministration pr. hjælper
B19: Jf. KL's notat "Beregning af tilskud til borgerstyret personlig assistance (BPA)" afsnit 3.5 fra oktober 2010: "Såfremt tilskud til arbejdsgiveropgaven overføres til en forening eller privat virksomhed, er det forudsat at der for BPA-ordninger efter § 96 udmåles 1.643 kr. (2009-priser) årligt pr. hjælper til lønadministration. Dette kommer ud over udmåling til varetagelse af øvrige arbejdsgiveropgaver, jf. afsnit 3.4 ovenfor."
A21: Beregning til forklaring af antal hjælpere i en gennemsnitsordning
B22: Med udgangspunkt i erfaring og det forhold, at borgeren har ansvaret for at have tilstrækkeligt med hjælpere
B23: ansat i ordningen til at sikre vikardækning, så anbefaler branchen borgerne at ansætte hjælpere med udgangspunkt
B24: i nedenstående model. Modellen har vist sig retvisende som gennemsnitsbetragtning.
B26: Ugentlige timer i ordning | C26: =+C30 -> Faste hjælpere | D26: =+D30 -> Afløsere/vikar | E26: =+E30 -> Personale-omsætning | F26: =+F30 -> Total hjælper tilknytning i team
B27: =IF(C8="BPA-HHOK",'BPA-HHOK'!F46,'SOSU-OK'!F46) -> 0 | C27: =IF(B27>72,ROUNDUP(B27/24,0),IF(AND(20>B27,B27>0),2,IF(AND(40>B27,B27>0),3,IF(AND(73>B27,B27>0),4,0)))) -> 0 | D27: =ROUNDUP(C27/4,0) -> 0 | E27: =ROUND((C27+D27)*0.3,0) -> 0 | F27: =+E27+D27+C27 -> 0
A29: MODEL
A30: Ugentlige timer | B30: Metode | C30: Faste hjælpere | D30: Afløsere/vikar | E30: Personale-omsætning | F30: Total hjælper tilknytning i team
A31: under 20 | B31: Erfaringsbaseret | C31: 2 | D31: 1 | E31: =SUM(C31:D31)*0.3 -> 0.9 | F31: =+E31+D31+C31 -> 3.9
A32: 20-40 | B32: Erfaringsbaseret | C32: 3 | D32: 1 | E32: =SUM(C32:D32)*0.3 -> 1.2 | F32: =+E32+D32+C32 -> 5.2
A33: 40-72 | B33: Erfaringsbaseret | C33: 4 | D33: 1 | E33: =SUM(C33:D33)*0.3 -> 1.5 | F33: =+E33+D33+C33 -> 6.5
A34: 73+ | B34: "antal timer / 24 + 1 vikar pr. påbegyndt 4 hjælpere" | C34: beregnet | D34: beregnet | E34: beregnet | F34: beregnet
B35: Personaleomsætning beregnet som 30 % inkl. vikar - afrundet efter normale principper
A38: Beregning af Lønadministrationstakst
B39: Kilde for satser:
B40: https://www.kl.dk/okonomi-og-administration/okonomi-og-styring/kommunal-oekonomi-a-z/
C41: Årsfremskrivning | D41: Generel pris- og lønstigning, pct. | E41: Pristals-reguleret lønadm.takst
C42: 2009 | D42: 0 | E42: 1643
C43: 2010 | D43: 2.8 | E43: =E42*(D43+100)/100 -> 1689.004
C44: 2011 | D44: 1.1 | E44: =E43*(D44+100)/100 -> 1707.583
C45: 2012 | D45: 2.3 | E45: =E44*(D45+100)/100 -> 1746.8575
C46: 2013 | D46: 0.9 | E46: =E45*(D46+100)/100 -> 1762.5792
C47: 2014 | D47: 1.3 | E47: =E46*(D47+100)/100 -> 1785.4927
C48: 2015 | D48: 1.3 | E48: =E47*(D48+100)/100 -> 1808.7041
C49: 2016 | D49: 1.5 | E49: =E48*(D49+100)/100 -> 1835.8347
...

Sheet Forudsætninger
A1: Forudsætninger fra overenskomster og lovgivning | R1: Vælg
R2: SSHløn
H3: OBS: Indtast/vælg egne værdier i de BLÅ FELTER | R3: SSAløn
A4: Overenskomstbestemte satser
P5: Kommunenavn | Q5: Område nr
A6: Lønsatser timelønninger | P6: Albertslund | Q6: 4
P7: Allerød | Q7: 3
A8: Pr | B8: 46296 | C8: Stedtillæg | I8: SSH-løn | J8: Kr pr time | P8: Assens | Q8: 0
A9: Ufaglært | B9: Løntrin | C9: 0 | D9: 1 | E9: 2 | F9: 3 | G9: 4 | I9: a. 0 års erfaring | J9: 1.36 | P9: Ballerup | Q9: 4
A10: Handicaphjælper grund- og erfaringsløn | B10: 13 | C10: 156.69 | D10: 159.1 | E10: 160.77 | F10: 163.19 | G10: 164.86 | I10: b. 4 års erfaring | J10: 2.23 | P10: Brøndby | Q10: 4
B11: 14 | C11: 159.39 | D11: 161.87 | E11: 163.58 | F11: 166.06 | G11: 167.77 | I11: c. 7 års erfaring | J11: 2.23 | P11: Brønderslev | Q11: 0
B12: 15 | C12: 160.97 | D12: 163.51 | E12: 165.26 | F12: 167.8 | G12: 169.56 | I12: d. 11 års erfaring | J12: 2.66 | P12: Christiansø | Q12: 0
B13: 16 | C13: 163.71 | D13: 166.31 | E13: 168.11 | F13: 170.71 | G13: 172.51 | I13: Vælg | J13: 0 | P13: Dragør | Q13: 4
B14: 17 | C14: 165.98 | D14: 168.66 | E14: 170.51 | F14: 173.19 | G14: 175.05 | P14: Egedal | Q14: 4
A15: Handicaphjælper med SSH | B15: 18 | C15: 169.01 | D15: 171.76 | E15: 173.66 | F15: 176.41 | G15: 178.31 | P15: Esbjerg | Q15: 1
B16: 19 | C16: 171.28 | D16: 174.1 | E16: 176.05 | F16: 178.87 | G16: 180.82 | P16: Fanø | Q16: 1 | R16: Selvvalgt fra kommunens side, reelt 0
A17: Handicaphjælper med SSH 4 års erfaring | B17: 20 | C17: 173.3 | D17: 176.19 | E17: 178.19 | F17: 181.08 | G17: 183.08 | I17: SSA-løn | J17: Kr pr time | P17: Favrskov | Q17: 0
B18: 21 | C18: 176.17 | D18: 179.13 | E18: 181.19 | F18: 184.15 | G18: 186.2 | I18: a. 0 års erfaring | J18: 0.45 | P18: Faxe | Q18: 0
A19: Handicaphjælper med SSA | B19: 22 | C19: 178.26 | D19: 181.23 | E19: 183.28 | F19: 186.24 | G19: 188.29 | I19: b. 4 års erfaring | J19: 0.45 | P19: Fredensborg | Q19: 3
B20: 23 | C20: 181.11 | D20: 183.99 | E20: 185.98 | F20: 188.87 | G20: 190.86 | I20: c. 7 års erfaring | J20: 0.45 | P20: Fredericia | Q20: 0
A21: Handicaphjælper med SSH 7 års erfaring og SSA grundløn | B21: 24 | C21: 184.04 | D21: 186.84 | E21: 188.78 | F21: 191.58 | G21: 193.52 | I21: d. 10 års erfaring | J21: 0.45
B22: 25 | C22: 187.03 | D22: 189.75 | E22: 191.63 | F22: 194.34 | G22: 196.22 | I22: Vælg | J22: 0 | P22: Frederiksberg | Q22: 4
B23: 26 | C23: 190.1 | D23: 192.72 | E23: 194.53 | F23: 197.15 | G23: 198.97 | P23: Frederikshavn | Q23: 1
B24: 27 | C24: 193.23 | D24: 195.75 | E24: 197.49 | F24: 200.01 | G24: 201.76 | P24: Frederikssund | Q24: 3
A25: Handicaphjælper SSH 11 års | B25: 28 | C25: 196.44 | D25: 198.85 | E25: 200.52 | F25: 202.93 | G25: 204.6 | P25: Furesø | Q25: 4
A26: Handicaphjælper med SSA 4 års erfaring | B26: 29 | C26: 199.71 | D26: 202.01 | E26: 203.6 | F26: 205.9 | G26: 207.49 | P26: Faaborg-Midtfyn | Q26: 1
B27: 30 | C27: 203.06 | D27: 205.23 | E27: 206.74 | F27: 208.92 | G27: 210.42 | P27: Gentofte | Q27: 4
A28: Handicaphjælper SSA 7 års erfaring | B28: 31 | C28: 206.48 | D28: 208.53 | E28: 209.94 | F28: 211.99 | G28: 213.41 | P28: Gladsaxe | Q28: 4
B29: 32 | C29: 209.98 | D29: 211.89 | E29: 213.21 | F29: 215.12 | G29: 216.44 | P29: Glostrup | Q29: 4
A30: Handicaphjælper SSA 10 års erfaring | B30: 33 | C30: 213.55 | D30: 215.32 | E30: 216.54 | F30: 218.3 | G30: 219.52 | P30: Greve | Q30: 4
B31: 34 | C31: 217.21 | D31: 218.82 | E31: 219.93 | F31: 221.54 | G31: 222.65 | P31: Gribskov | Q31: 3
P32: Guldborgsund | Q32: 0
P33: Haderslev | Q33: 0
P34: Halsnæs | Q34: 3
A35: BPA-Handicaphjælper-overenskomst | H35: SOSU-overenskomst | P35: Hedensted | Q35: 0
P36: Helsingør | Q36: 3
P37: Herlev | Q37: 4
A38: Særtillæg: | B38: Sats/andel | H38: Særtillæg: | I38: Sats/andel | P38: Herning | Q38: 0
A39: Aftentillæg | B39: 0.36 | H39: Aftentillæg | I39: 0.36 | P39: Hillerød | Q39: 3
A40: Nattillæg | B40: 0.4 | H40: Nattillæg | I40: 0.4 | P40: Hjørring | Q40: 0
...

Sheet BPA-HHOK
A1: Budget ved beregning af tilskud efter servicelovens §§95 og 96.
A2: Når der aflønnes efter BPA-Handicaphjælper-overenskomst | I2: OBS: Indtast/vælg egne værdier i de BLÅ FELTER
A4: Kommune: | B4: Vælg kommune her | E4: Stedtillæg: | F4: =+VLOOKUP(B4,Kommunenavn,2) -> 0 | H4: Borger:
A5: Aktuelle lønsatser pr. | C5: =Forudsætninger!B8 -> 46296 | O5: 45474 | Q5: SSH-aflønning | R5: Vælg dette løntrin i F8 | T5: SSA-aflønning | U5: Vælg dette løntrin i F8
A6: Budget periode | B6: Fra dato | C6: 46296 | D6: Til dato | E6: 46660 | Q6: a. 0 års erfaring | R6: 19 | T6: a. 0 års erfaring | U6: 24
F7: Løntrin | G7: Grundtimepris | H7: Grundtimepris tillæg | I7: Søn- hell. dage | J7: Lørdags-godtgør | K7: Forskudt tid aften | L7: Forskudt tid nat | M7: Rådighed | Q7: b. års erfaring | R7: 23 | T7: b. års erfaring | U7: 30
A8: Som udgangspunkt vælges timepris (trin 13) inkl. stedtillæg. Hvis der i bevilling gives højere løntrin, skal dette afspejles i timeprisen. | F8: 13 | G8: =+INDEX(Timepriser,MATCH(F8,Løntrin,0),MATCH(F4,Stedtillæg,0)) -> 156.69 | H8: =+IFERROR(IF(F9="SSHløn",VLOOKUP(G9,SSHTillæg.,2),VLOOKUP(G9,SSATillæg.,2)),0) -> 0 | I8: =+SUM(G8:H8)*Forudsætninger!B42 -> 78.345 | J8: =+SUM(G8:H8)*Forudsætninger!B41 -> 50.1408 | K8: =+SUM(G8:H8)*Forudsætninger!B39 -> 56.4084 | L8: =+SUM(G8:H8)*Forudsætninger!B40 -> 62.676 | M8: =SUM(G8:H8)*Forudsætninger!B44 -> 117.5175 | P8: 43466 | Q8: c. 7 års erfaring | R8: 25 | T8: c. 7 års erfaring | U8: 32
A9: Vælg tillæg iht. anciennitet, hvis der skal aflønnes som SSH eller SSA | F9: Vælg | G9: Vælg | Q9: d. 11 års erfaring | R9: 29 | T9: d. 10 års erfaring | U9: 34
N10: Der regnes altid tillæg pr halve time
B11: Tidsrum | C11: Norm timer pr uge | D11: Puljetimer pr år | E11: Timer rådighed pr uge | F11: Timeløn | G11: Søn-hell | H11: Lørdags-godtgør | I11: Forskudt aften | J11: Forskudt nat | K11: Timeløn rådighed | L11: Timeløn Norm timer | M11: Beløb | N11: Tillæg norm timer ugentlige | O11: Tillæg puljetimer årlige
A12: Mandag | B12: Kl. 0-6 | F12: =+SUM($G$8:$H$8) -> 156.69 | J12: =+L8 -> 62.676 | K12: =+M8 -> 117.5175 | L12: =SUM(F12:J12) -> 219.366 | M12: =+($C12+($D12/(Budgetark!$G$6)+$E12*3/4))*$F12+N12+O12/(Budgetark!$G$6) -> 0 | N12: =SUM(G12:J12)*ROUNDUP(C12*2,0)/2 -> 0 | O12: =SUM(G12:J12)*ROUNDUP(D12*2,0)/2 -> 0
A13: Mandag | B13: Kl. 6-17 | F13: =+SUM($G$8:$H$8) -> 156.69 | K13: =+M8 -> 117.5175 | L13: =SUM(F13:J13) -> 156.69 | M13: =+($C13+($D13/(Budgetark!$G$6)+$E13*3/4))*$F13+N13+O13/(Budgetark!$G$6) -> 0 | N13: =SUM(G13:J13)*ROUNDUP(C13*2,0)/2 -> 0 | O13: =SUM(G13:J13)*ROUNDUP(D13*2,0)/2 -> 0
A14: Mandag | B14: Kl. 17-23 | F14: =+SUM($G$8:$H$8) -> 156.69 | I14: =+K8 -> 56.4084 | K14: =+M8 -> 117.5175 | L14: =SUM(F14:J14) -> 213.0984 | M14: =+($C14+($D14/(Budgetark!$G$6)+$E14*3/4))*$F14+N14+O14/(Budgetark!$G$6) -> 0 | N14: =SUM(G14:J14)*ROUNDUP(C14*2,0)/2 -> 0 | O14: =SUM(G14:J14)*ROUNDUP(D14*2,0)/2 -> 0
A15: Mandag | B15: Kl. 23-0 | F15: =+SUM($G$8:$H$8) -> 156.69 | J15: =+L8 -> 62.676 | K15: =+M8 -> 117.5175 | L15: =SUM(F15:J15) -> 219.366 | M15: =+($C15+($D15/(Budgetark!$G$6)+$E15*3/4))*$F15+N15+O15/(Budgetark!$G$6) -> 0 | N15: =SUM(G15:J15)*ROUNDUP(C15*2,0)/2 -> 0 | O15: =SUM(G15:J15)*ROUNDUP(D15*2,0)/2 -> 0
A17: Tirsdag | B17: Kl. 0-6 | F17: =+SUM($G$8:$H$8) -> 156.69 | J17: =+L8 -> 62.676 | K17: =+M8 -> 117.5175 | L17: =SUM(F17:J17) -> 219.366 | M17: =+($C17+($D17/(Budgetark!$G$6)+$E17*3/4))*$F17+N17+O17/(Budgetark!$G$6) -> 0 | N17: =SUM(G17:J17)*ROUNDUP(C17*2,0)/2 -> 0 | O17: =SUM(G17:J17)*ROUNDUP(D17*2,0)/2 -> 0
A18: Tirsdag | B18: Kl. 6-17 | F18: =+SUM($G$8:$H$8) -> 156.69 | K18: =+M8 -> 117.5175 | L18: =SUM(F18:J18) -> 156.69 | M18: =+($C18+($D18/(Budgetark!$G$6)+$E18*3/4))*$F18+N18+O18/(Budgetark!$G$6) -> 0 | N18: =SUM(G18:J18)*ROUNDUP(C18*2,0)/2 -> 0 | O18: =SUM(G18:J18)*ROUNDUP(D18*2,0)/2 -> 0
A19: Tirsdag | B19: Kl. 17-23 | F19: =+SUM($G$8:$H$8) -> 156.69 | I19: =+K8 -> 56.4084 | K19: =+M8 -> 117.5175 | L19: =SUM(F19:J19) -> 213.0984 | M19: =+($C19+($D19/(Budgetark!$G$6)+$E19*3/4))*$F19+N19+O19/(Budgetark!$G$6) -> 0 | N19: =SUM(G19:J19)*ROUNDUP(C19*2,0)/2 -> 0 | O19: =SUM(G19:J19)*ROUNDUP(D19*2,0)/2 -> 0
A20: Tirsdag | B20: Kl. 23-0 | F20: =+SUM($G$8:$H$8) -> 156.69 | J20: =+L8 -> 62.676 | K20: =+M8 -> 117.5175 | L20: =SUM(F20:J20) -> 219.366 | M20: =+($C20+($D20/(Budgetark!$G$6)+$E20*3/4))*$F20+N20+O20/(Budgetark!$G$6) -> 0 | N20: =SUM(G20:J20)*ROUNDUP(C20*2,0)/2 -> 0 | O20: =SUM(G20:J20)*ROUNDUP(D20*2,0)/2 -> 0
A22: Onsdag | B22: Kl. 0-6 | F22: =+SUM($G$8:$H$8) -> 156.69 | J22: =+L8 -> 62.676 | K22: =+M8 -> 117.5175 | L22: =SUM(F22:J22) -> 219.366 | M22: =+($C22+($D22/(Budgetark!$G$6)+$E22*3/4))*$F22+N22+O22/(Budgetark!$G$6) -> 0 | N22: =SUM(G22:J22)*ROUNDUP(C22*2,0)/2 -> 0 | O22: =SUM(G22:J22)*ROUNDUP(D22*2,0)/2 -> 0
A23: Onsdag | B23: Kl. 6-17 | F23: =+SUM($G$8:$H$8) -> 156.69 | K23: =+M8 -> 117.5175 | L23: =SUM(F23:J23) -> 156.69 | M23: =+($C23+($D23/(Budgetark!$G$6)+$E23*3/4))*$F23+N23+O23/(Budgetark!$G$6) -> 0 | N23: =SUM(G23:J23)*ROUNDUP(C23*2,0)/2 -> 0 | O23: =SUM(G23:J23)*ROUNDUP(D23*2,0)/2 -> 0
A24: Onsdag | B24: Kl. 17-23 | F24: =+SUM($G$8:$H$8) -> 156.69 | I24: =+K8 -> 56.4084 | K24: =+M8 -> 117.5175 | L24: =SUM(F24:J24) -> 213.0984 | M24: =+($C24+($D24/(Budgetark!$G$6)+$E24*3/4))*$F24+N24+O24/(Budgetark!$G$6) -> 0 | N24: =SUM(G24:J24)*ROUNDUP(C24*2,0)/2 -> 0 | O24: =SUM(G24:J24)*ROUNDUP(D24*2,0)/2 -> 0
A25: Onsdag | B25: Kl. 23-0 | F25: =+SUM($G$8:$H$8) -> 156.69 | J25: =+L8 -> 62.676 | K25: =+M8 -> 117.5175 | L25: =SUM(F25:J25) -> 219.366 | M25: =+($C25+($D25/(Budgetark!$G$6)+$E25*3/4))*$F25+N25+O25/(Budgetark!$G$6) -> 0 | N25: =SUM(G25:J25)*ROUNDUP(C25*2,0)/2 -> 0 | O25: =SUM(G25:J25)*ROUNDUP(D25*2,0)/2 -> 0
A27: Torsdag | B27: Kl. 0-6 | F27: =+SUM($G$8:$H$8) -> 156.69 | J27: =+L8 -> 62.676 | K27: =+M8 -> 117.5175 | L27: =SUM(F27:J27) -> 219.366 | M27: =+($C27+($D27/(Budgetark!$G$6)+$E27*3/4))*$F27+N27+O27/(Budgetark!$G$6) -> 0 | N27: =SUM(G27:J27)*ROUNDUP(C27*2,0)/2 -> 0 | O27: =SUM(G27:J27)*ROUNDUP(D27*2,0)/2 -> 0
A28: Torsdag | B28: Kl. 6-17 | F28: =+SUM($G$8:$H$8) -> 156.69 | K28: =+M8 -> 117.5175 | L28: =SUM(F28:J28) -> 156.69 | M28: =+($C28+($D28/(Budgetark!$G$6)+$E28*3/4))*$F28+N28+O28/(Budgetark!$G$6) -> 0 | N28: =SUM(G28:J28)*ROUNDUP(C28*2,0)/2 -> 0 | O28: =SUM(G28:J28)*ROUNDUP(D28*2,0)/2 -> 0
A29: Torsdag | B29: Kl. 17-23 | F29: =+SUM($G$8:$H$8) -> 156.69 | I29: =+K8 -> 56.4084 | K29: =+M8 -> 117.5175 | L29: =SUM(F29:J29) -> 213.0984 | M29: =+($C29+($D29/(Budgetark!$G$6)+$E29*3/4))*$F29+N29+O29/(Budgetark!$G$6) -> 0 | N29: =SUM(G29:J29)*ROUNDUP(C29*2,0)/2 -> 0 | O29: =SUM(G29:J29)*ROUNDUP(D29*2,0)/2 -> 0
A30: Torsdag | B30: Kl. 23-0 | F30: =+SUM($G$8:$H$8) -> 156.69 | J30: =+L8 -> 62.676 | K30: =+M8 -> 117.5175 | L30: =SUM(F30:J30) -> 219.366 | M30: =+($C30+($D30/(Budgetark!$G$6)+$E30*3/4))*$F30+N30+O30/(Budgetark!$G$6) -> 0 | N30: =SUM(G30:J30)*ROUNDUP(C30*2,0)/2 -> 0 | O30: =SUM(G30:J30)*ROUNDUP(D30*2,0)/2 -> 0
A32: Fredag | B32: Kl. 0-6 | F32: =+SUM($G$8:$H$8) -> 156.69 | J32: =+L8 -> 62.676 | K32: =+M8 -> 117.5175 | L32: =SUM(F32:J32) -> 219.366 | M32: =+($C32+($D32/(Budgetark!$G$6)+$E32*3/4))*$F32+N32+O32/(Budgetark!$G$6) -> 0 | N32: =SUM(G32:J32)*ROUNDUP(C32*2,0)/2 -> 0 | O32: =SUM(G32:J32)*ROUNDUP(D32*2,0)/2 -> 0
A33: Fredag | B33: Kl. 6-17 | F33: =+SUM($G$8:$H$8) -> 156.69 | K33: =+M8 -> 117.5175 | L33: =SUM(F33:J33) -> 156.69 | M33: =+($C33+($D33/(Budgetark!$G$6)+$E33*3/4))*$F33+N33+O33/(Budgetark!$G$6) -> 0 | N33: =SUM(G33:J33)*ROUNDUP(C33*2,0)/2 -> 0 | O33: =SUM(G33:J33)*ROUNDUP(D33*2,0)/2 -> 0
A34: Fredag | B34: Kl. 17-23 | F34: =+SUM($G$8:$H$8) -> 156.69 | I34: =+K8 -> 56.4084 | K34: =+M8 -> 117.5175 | L34: =SUM(F34:J34) -> 213.0984 | M34: =+($C34+($D34/(Budgetark!$G$6)+$E34*3/4))*$F34+N34+O34/(Budgetark!$G$6) -> 0 | N34: =SUM(G34:J34)*ROUNDUP(C34*2,0)/2 -> 0 | O34: =SUM(G34:J34)*ROUNDUP(D34*2,0)/2 -> 0
A35: Fredag | B35: Kl. 23-0 | F35: =+SUM($G$8:$H$8) -> 156.69 | J35: =+L8 -> 62.676 | K35: =+M8 -> 117.5175 | L35: =SUM(F35:J35) -> 219.366 | M35: =+($C35+($D35/(Budgetark!$G$6)+$E35*3/4))*$F35+N35+O35/(Budgetark!$G$6) -> 0 | N35: =SUM(G35:J35)*ROUNDUP(C35*2,0)/2 -> 0 | O35: =SUM(G35:J35)*ROUNDUP(D35*2,0)/2 -> 0
A37: Lørdag | B37: Kl. 0-6 | F37: =+SUM($G$8:$H$8) -> 156.69 | J37: =+L8 -> 62.676 | K37: =+M8 -> 117.5175 | L37: =SUM(F37:J37) -> 219.366 | M37: =+($C37+($D37/(Budgetark!$G$6)+$E37*3/4))*$F37+N37+O37/(Budgetark!$G$6) -> 0 | N37: =SUM(G37:J37)*ROUNDUP(C37*2,0)/2 -> 0 | O37: =SUM(G37:J37)*ROUNDUP(D37*2,0)/2 -> 0
A38: Lørdag | B38: Kl. 6-17 | F38: =+SUM($G$8:$H$8) -> 156.69 | H38: =+J8 -> 50.1408 | K38: =+M8 -> 117.5175 | L38: =SUM(F38:J38) -> 206.8308 | M38: =+($C38+($D38/(Budgetark!$G$6)+$E38*3/4))*$F38+N38+O38/(Budgetark!$G$6) -> 0 | N38: =SUM(G38:J38)*ROUNDUP(C38*2,0)/2 -> 0 | O38: =SUM(G38:J38)*ROUNDUP(D38*2,0)/2 -> 0
A39: Lørdag | B39: Kl. 17-23 | F39: =+SUM($G$8:$H$8) -> 156.69 | H39: =+J8 -> 50.1408 | I39: =+K8 -> 56.4084 | K39: =+M8 -> 117.5175 | L39: =SUM(F39:J39) -> 263.2392 | M39: =+($C39+($D39/(Budgetark!$G$6)+$E39*3/4))*$F39+N39+O39/(Budgetark!$G$6) -> 0 | N39: =SUM(G39:J39)*ROUNDUP(C39*2,0)/2 -> 0 | O39: =SUM(G39:J39)*ROUNDUP(D39*2,0)/2 -> 0
A40: Lørdag | B40: Kl. 23-0 | F40: =+SUM($G$8:$H$8) -> 156.69 | H40: =+J8 -> 50.1408 | J40: =+L8 -> 62.676 | K40: =+M8 -> 117.5175 | L40: =SUM(F40:J40) -> 269.5068 | M40: =+($C40+($D40/(Budgetark!$G$6)+$E40*3/4))*$F40+N40+O40/(Budgetark!$G$6) -> 0 | N40: =SUM(G40:J40)*ROUNDUP(C40*2,0)/2 -> 0 | O40: =SUM(G40:J40)*ROUNDUP(D40*2,0)/2 -> 0
A42: Søndag | B42: Kl. 0-6 | F42: =+SUM($G$8:$H$8) -> 156.69 | G42: =+I8 -> 78.345 | J42: =+L8 -> 62.676 | K42: =+M8 -> 117.5175 | L42: =SUM(F42:J42) -> 297.711 | M42: =+($C42+($D42/(Budgetark!$G$6)+$E42*3/4))*$F42+N42+O42/(Budgetark!$G$6) -> 0 | N42: =SUM(G42:J42)*ROUNDUP(C42*2,0)/2 -> 0 | O42: =SUM(G42:J42)*ROUNDUP(D42*2,0)/2 -> 0
A43: Søndag | B43: Kl. 6-17 | F43: =+SUM($G$8:$H$8) -> 156.69 | G43: =+I8 -> 78.345 | K43: =+M8 -> 117.5175 | L43: =SUM(F43:J43) -> 235.035 | M43: =+($C43+($D43/(Budgetark!$G$6)+$E43*3/4))*$F43+N43+O43/(Budgetark!$G$6) -> 0 | N43: =SUM(G43:J43)*ROUNDUP(C43*2,0)/2 -> 0 | O43: =SUM(G43:J43)*ROUNDUP(D43*2,0)/2 -> 0
A44: Søndag | B44: Kl. 17-23 | F44: =+SUM($G$8:$H$8) -> 156.69 | G44: =+I8 -> 78.345 | I44: =+K8 -> 56.4084 | K44: =+M8 -> 117.5175 | L44: =SUM(F44:J44) -> 291.4434 | M44: =+($C44+($D44/(Budgetark!$G$6)+$E44*3/4))*$F44+N44+O44/(Budgetark!$G$6) -> 0 | N44: =SUM(G44:J44)*ROUNDUP(C44*2,0)/2 -> 0 | O44: =SUM(G44:J44)*ROUNDUP(D44*2,0)/2 -> 0
A45: Søndag | B45: Kl. 23-0 | F45: =+SUM($G$8:$H$8) -> 156.69 | G45: =+I8 -> 78.345 | J45: =+L8 -> 62.676 | K45: =+M8 -> 117.5175 | L45: =SUM(F45:J45) -> 297.711 | M45: =+($C45+($D45/(Budgetark!$G$6)+$E45*3/4))*$F45+N45+O45/(Budgetark!$G$6) -> 0 | N45: =SUM(G45:J45)*ROUNDUP(C45*2,0)/2 -> 0 | O45: =SUM(G45:J45)*ROUNDUP(D45*2,0)/2 -> 0
A46: Timer pr. uge | C46: =SUM(C12:C45) -> 0 | D46: =SUM(D12:D45) -> 0 | E46: =SUM(E12:E45) -> 0 | F46: =C46+E46+D46/(Budgetark!G6) -> 0 | G46: =C42+C43+C44+C45+(D42+D43+D44+D45)/(Budgetark!G6) -> 0 | H46: =C38+C39+C40+(D38+D39+D40)/(Budgetark!G6) -> 0 | I46: =C14+C24+C29+C34+C39+C44+C19+(D14+D24+D29+D34+D39+D44+D19)/(Budgetark!G6) -> 0 | J46: =C12+(D12+D15+D17+D20+D22+D25+D27+D30+D32+D35+D37+D40+D42+D45)/(Budgetark!G6)+C15+C17+C20+C22+C25+C27+C30+C32+C35+C37+C40+C42+C45 -> 0 | N46: =SUM(N12:N45) -> 0 | O46: =SUM(O12:O45) -> 0
F48: Timer/dag | G48: Helligd.
...

Sheet SOSU-OK
A1: Budget ved beregning af tilskud efter servicelovens §§95 og 96.
A2: Når der aflønnes efter SOSU-overenskomt | I2: OBS: Indtast/vælg egne værdier i de BLÅ FELTER
A4: Kommune: | B4: Vælg kommune her | E4: Stedtillæg: | F4: =+VLOOKUP(B4,Kommunenavn,2) -> 0 | H4: Borger:
A5: Aktuelle lønsatser pr. | C5: =Forudsætninger!B8 -> 46296 | O5: 45474 | Q5: SSH-aflønning | R5: Vælg dette løntrin i F8 | T5: SSA-aflønning | U5: Vælg dette løntrin i F8
A6: Budget periode | B6: Fra dato | C6: 46296 | D6: Til dato | E6: 46660 | Q6: 0 års erfaring | R6: 19 | T6: 0 års erfaring | U6: 24
F7: Løntrin | G7: Grundtimepris | H7: Grundtimepris tillæg | I7: Søn- hell. Dage | J7: Lørdags-godtgør | K7: Forskudt tid aften | L7: Forskudt tid nat | M7: Rådighed3 | Q7: 4 års erfaring | R7: 23 | T7: 4 års erfaring | U7: 30
A8: Som udgangspunkt vælges timepris (trin 13) inkl. stedtillæg. Hvis der i bevilling gives højere løntrin, skal dette afspejles i timeprisen. | F8: 13 | G8: =+INDEX(Timepriser,MATCH(F8,Løntrin,0),MATCH(F4,Stedtillæg,0)) -> 156.69 | H8: =+IFERROR(IF(F9="SSHløn",VLOOKUP(G9,SSHTillæg.,2),VLOOKUP(G9,SSATillæg.,2)),0) -> 0 | I8: =+SUM(G8:H8)*Forudsætninger!I42 -> 78.345 | J8: {=+SUM(G8:H8*Forudsætninger!I41)} -> 50.1408 | K8: {=+SUM(G8:H8*Forudsætninger!I39)} -> 56.4084 | L8: =+SUM(G8:H8)*Forudsætninger!I40 -> 62.676 | M8: {=SUM(G8:H8*Forudsætninger!I44)} -> 117.5175 | Q8: 7 års erfaring | R8: 25 | T8: 7 års erfaring | U8: 32
A9: Vælg tillæg iht. anciennitet, hvis der skal aflønnes som SSH eller SSA | F9: Vælg | G9: Vælg | Q9: 11 års erfaring | R9: 29 | T9: 10 års erfaring | U9: 34
N10: Der regnes altid tillæg pr halve time
B11: Tidsrum | C11: Norm timer pr uge | D11: Puljetimer pr år | E11: Timer rådighed pr uge | F11: Timeløn | G11: Søn-hell | H11: Lørdags-godtgør | I11: Forskudt aften | J11: Forskudt nat | K11: Timeløn rådighed | L11: Timeløn Norm timer | M11: Beløb | N11: Tillæg norm timer ugentlige | O11: Tillæg puljetimer årlige
A12: Mandag | B12: Kl. 0-6 | F12: =+SUM($G$8:$H$8) -> 156.69 | J12: =+L8 -> 62.676 | K12: =+M8 -> 117.5175 | L12: =SUM(F12:J12) -> 219.366 | M12: =+($C12+($D12/(Budgetark!$J$6)+$E12*3/4))*$F12+N12+O12/(Budgetark!$J$6) -> 0 | N12: =SUM(G12:J12)*ROUNDUP(C12*2,0)/2 -> 0 | O12: =SUM(G12:J12)*ROUNDUP(D12*2,0)/2 -> 0
A13: Mandag | B13: Kl. 6-17 | F13: =+SUM($G$8:$H$8) -> 156.69 | K13: =+M8 -> 117.5175 | L13: =SUM(F13:J13) -> 156.69 | M13: =+($C13+($D13/(Budgetark!$J$6)+$E13*3/4))*$F13+N13+O13/(Budgetark!$J$6) -> 0 | N13: =SUM(G13:J13)*ROUNDUP(C13*2,0)/2 -> 0 | O13: =SUM(G13:J13)*ROUNDUP(D13*2,0)/2 -> 0
A14: Mandag | B14: Kl. 17-23 | F14: =+SUM($G$8:$H$8) -> 156.69 | I14: =+K8 -> 56.4084 | K14: =+M8 -> 117.5175 | L14: =SUM(F14:J14) -> 213.0984 | M14: =+($C14+($D14/(Budgetark!$J$6)+$E14*3/4))*$F14+N14+O14/(Budgetark!$J$6) -> 0 | N14: =SUM(G14:J14)*ROUNDUP(C14*2,0)/2 -> 0 | O14: =SUM(G14:J14)*ROUNDUP(D14*2,0)/2 -> 0
A15: Mandag | B15: Kl. 23-0 | F15: =+SUM($G$8:$H$8) -> 156.69 | J15: =+L8 -> 62.676 | K15: =+M8 -> 117.5175 | L15: =SUM(F15:J15) -> 219.366 | M15: =+($C15+($D15/(Budgetark!$J$6)+$E15*3/4))*$F15+N15+O15/(Budgetark!$J$6) -> 0 | N15: =SUM(G15:J15)*ROUNDUP(C15*2,0)/2 -> 0 | O15: =SUM(G15:J15)*ROUNDUP(D15*2,0)/2 -> 0
A17: Tirsdag | B17: Kl. 0-6 | F17: =+SUM($G$8:$H$8) -> 156.69 | J17: =+L8 -> 62.676 | K17: =+M8 -> 117.5175 | L17: =SUM(F17:J17) -> 219.366 | M17: =+($C17+($D17/(Budgetark!$J$6)+$E17*3/4))*$F17+N17+O17/(Budgetark!$J$6) -> 0 | N17: =SUM(G17:J17)*ROUNDUP(C17*2,0)/2 -> 0 | O17: =SUM(G17:J17)*ROUNDUP(D17*2,0)/2 -> 0
A18: Tirsdag | B18: Kl. 6-17 | F18: =+SUM($G$8:$H$8) -> 156.69 | K18: =+M8 -> 117.5175 | L18: =SUM(F18:J18) -> 156.69 | M18: =+($C18+($D18/(Budgetark!$J$6)+$E18*3/4))*$F18+N18+O18/(Budgetark!$J$6) -> 0 | N18: =SUM(G18:J18)*ROUNDUP(C18*2,0)/2 -> 0 | O18: =SUM(G18:J18)*ROUNDUP(D18*2,0)/2 -> 0
A19: Tirsdag | B19: Kl. 17-23 | F19: =+SUM($G$8:$H$8) -> 156.69 | I19: =+K8 -> 56.4084 | K19: =+M8 -> 117.5175 | L19: =SUM(F19:J19) -> 213.0984 | M19: =+($C19+($D19/(Budgetark!$J$6)+$E19*3/4))*$F19+N19+O19/(Budgetark!$J$6) -> 0 | N19: =SUM(G19:J19)*ROUNDUP(C19*2,0)/2 -> 0 | O19: =SUM(G19:J19)*ROUNDUP(D19*2,0)/2 -> 0
A20: Tirsdag | B20: Kl. 23-0 | F20: =+SUM($G$8:$H$8) -> 156.69 | J20: =+L8 -> 62.676 | K20: =+M8 -> 117.5175 | L20: =SUM(F20:J20) -> 219.366 | M20: =+($C20+($D20/(Budgetark!$J$6)+$E20*3/4))*$F20+N20+O20/(Budgetark!$J$6) -> 0 | N20: =SUM(G20:J20)*ROUNDUP(C20*2,0)/2 -> 0 | O20: =SUM(G20:J20)*ROUNDUP(D20*2,0)/2 -> 0
A22: Onsdag | B22: Kl. 0-6 | F22: =+SUM($G$8:$H$8) -> 156.69 | J22: =+L8 -> 62.676 | K22: =+M8 -> 117.5175 | L22: =SUM(F22:J22) -> 219.366 | M22: =+($C22+($D22/(Budgetark!$J$6)+$E22*3/4))*$F22+N22+O22/(Budgetark!$J$6) -> 0 | N22: =SUM(G22:J22)*ROUNDUP(C22*2,0)/2 -> 0 | O22: =SUM(G22:J22)*ROUNDUP(D22*2,0)/2 -> 0
A23: Onsdag | B23: Kl. 6-17 | F23: =+SUM($G$8:$H$8) -> 156.69 | K23: =+M8 -> 117.5175 | L23: =SUM(F23:J23) -> 156.69 | M23: =+($C23+($D23/(Budgetark!$J$6)+$E23*3/4))*$F23+N23+O23/(Budgetark!$J$6) -> 0 | N23: =SUM(G23:J23)*ROUNDUP(C23*2,0)/2 -> 0 | O23: =SUM(G23:J23)*ROUNDUP(D23*2,0)/2 -> 0
A24: Onsdag | B24: Kl. 17-23 | F24: =+SUM($G$8:$H$8) -> 156.69 | I24: =+K8 -> 56.4084 | K24: =+M8 -> 117.5175 | L24: =SUM(F24:J24) -> 213.0984 | M24: =+($C24+($D24/(Budgetark!$J$6)+$E24*3/4))*$F24+N24+O24/(Budgetark!$J$6) -> 0 | N24: =SUM(G24:J24)*ROUNDUP(C24*2,0)/2 -> 0 | O24: =SUM(G24:J24)*ROUNDUP(D24*2,0)/2 -> 0
A25: Onsdag | B25: Kl. 23-0 | F25: =+SUM($G$8:$H$8) -> 156.69 | J25: =+L8 -> 62.676 | K25: =+M8 -> 117.5175 | L25: =SUM(F25:J25) -> 219.366 | M25: =+($C25+($D25/(Budgetark!$J$6)+$E25*3/4))*$F25+N25+O25/(Budgetark!$J$6) -> 0 | N25: =SUM(G25:J25)*ROUNDUP(C25*2,0)/2 -> 0 | O25: =SUM(G25:J25)*ROUNDUP(D25*2,0)/2 -> 0
A27: Torsdag | B27: Kl. 0-6 | F27: =+SUM($G$8:$H$8) -> 156.69 | J27: =+L8 -> 62.676 | K27: =+M8 -> 117.5175 | L27: =SUM(F27:J27) -> 219.366 | M27: =+($C27+($D27/(Budgetark!$J$6)+$E27*3/4))*$F27+N27+O27/(Budgetark!$J$6) -> 0 | N27: =SUM(G27:J27)*ROUNDUP(C27*2,0)/2 -> 0 | O27: =SUM(G27:J27)*ROUNDUP(D27*2,0)/2 -> 0
A28: Torsdag | B28: Kl. 6-17 | F28: =+SUM($G$8:$H$8) -> 156.69 | K28: =+M8 -> 117.5175 | L28: =SUM(F28:J28) -> 156.69 | M28: =+($C28+($D28/(Budgetark!$J$6)+$E28*3/4))*$F28+N28+O28/(Budgetark!$J$6) -> 0 | N28: =SUM(G28:J28)*ROUNDUP(C28*2,0)/2 -> 0 | O28: =SUM(G28:J28)*ROUNDUP(D28*2,0)/2 -> 0
A29: Torsdag | B29: Kl. 17-23 | F29: =+SUM($G$8:$H$8) -> 156.69 | I29: =+K8 -> 56.4084 | K29: =+M8 -> 117.5175 | L29: =SUM(F29:J29) -> 213.0984 | M29: =+($C29+($D29/(Budgetark!$J$6)+$E29*3/4))*$F29+N29+O29/(Budgetark!$J$6) -> 0 | N29: =SUM(G29:J29)*ROUNDUP(C29*2,0)/2 -> 0 | O29: =SUM(G29:J29)*ROUNDUP(D29*2,0)/2 -> 0
A30: Torsdag | B30: Kl. 23-0 | F30: =+SUM($G$8:$H$8) -> 156.69 | J30: =+L8 -> 62.676 | K30: =+M8 -> 117.5175 | L30: =SUM(F30:J30) -> 219.366 | M30: =+($C30+($D30/(Budgetark!$J$6)+$E30*3/4))*$F30+N30+O30/(Budgetark!$J$6) -> 0 | N30: =SUM(G30:J30)*ROUNDUP(C30*2,0)/2 -> 0 | O30: =SUM(G30:J30)*ROUNDUP(D30*2,0)/2 -> 0
A32: Fredag | B32: Kl. 0-6 | F32: =+SUM($G$8:$H$8) -> 156.69 | J32: =+L8 -> 62.676 | K32: =+M8 -> 117.5175 | L32: =SUM(F32:J32) -> 219.366 | M32: =+($C32+($D32/(Budgetark!$J$6)+$E32*3/4))*$F32+N32+O32/(Budgetark!$J$6) -> 0 | N32: =SUM(G32:J32)*ROUNDUP(C32*2,0)/2 -> 0 | O32: =SUM(G32:J32)*ROUNDUP(D32*2,0)/2 -> 0
A33: Fredag | B33: Kl. 6-17 | F33: =+SUM($G$8:$H$8) -> 156.69 | K33: =+M8 -> 117.5175 | L33: =SUM(F33:J33) -> 156.69 | M33: =+($C33+($D33/(Budgetark!$J$6)+$E33*3/4))*$F33+N33+O33/(Budgetark!$J$6) -> 0 | N33: =SUM(G33:J33)*ROUNDUP(C33*2,0)/2 -> 0 | O33: =SUM(G33:J33)*ROUNDUP(D33*2,0)/2 -> 0
A34: Fredag | B34: Kl. 17-23 | F34: =+SUM($G$8:$H$8) -> 156.69 | I34: =+K8 -> 56.4084 | K34: =+M8 -> 117.5175 | L34: =SUM(F34:J34) -> 213.0984 | M34: =+($C34+($D34/(Budgetark!$J$6)+$E34*3/4))*$F34+N34+O34/(Budgetark!$J$6) -> 0 | N34: =SUM(G34:J34)*ROUNDUP(C34*2,0)/2 -> 0 | O34: =SUM(G34:J34)*ROUNDUP(D34*2,0)/2 -> 0
A35: Fredag | B35: Kl. 23-0 | F35: =+SUM($G$8:$H$8) -> 156.69 | J35: =+L8 -> 62.676 | K35: =+M8 -> 117.5175 | L35: =SUM(F35:J35) -> 219.366 | M35: =+($C35+($D35/(Budgetark!$J$6)+$E35*3/4))*$F35+N35+O35/(Budgetark!$J$6) -> 0 | N35: =SUM(G35:J35)*ROUNDUP(C35*2,0)/2 -> 0 | O35: =SUM(G35:J35)*ROUNDUP(D35*2,0)/2 -> 0
A37: Lørdag | B37: Kl. 0-6 | F37: =+SUM($G$8:$H$8) -> 156.69 | J37: =+L8 -> 62.676 | K37: =+M8 -> 117.5175 | L37: =SUM(F37:J37) -> 219.366 | M37: =+($C37+($D37/(Budgetark!$J$6)+$E37*3/4))*$F37+N37+O37/(Budgetark!$J$6) -> 0 | N37: =SUM(G37:J37)*ROUNDUP(C37*2,0)/2 -> 0 | O37: =SUM(G37:J37)*ROUNDUP(D37*2,0)/2 -> 0
A38: Lørdag | B38: Kl. 6-17 | F38: =+SUM($G$8:$H$8) -> 156.69 | H38: =+J8 -> 50.1408 | K38: =+M8 -> 117.5175 | L38: =SUM(F38:J38) -> 206.8308 | M38: =+($C38+($D38/(Budgetark!$J$6)+$E38*3/4))*$F38+N38+O38/(Budgetark!$J$6) -> 0 | N38: =SUM(G38:J38)*ROUNDUP(C38*2,0)/2 -> 0 | O38: =SUM(G38:J38)*ROUNDUP(D38*2,0)/2 -> 0
A39: Lørdag | B39: Kl. 17-23 | F39: =+SUM($G$8:$H$8) -> 156.69 | H39: =+J8 -> 50.1408 | I39: =+K8 -> 56.4084 | K39: =+M8 -> 117.5175 | L39: =SUM(F39:J39) -> 263.2392 | M39: =+($C39+($D39/(Budgetark!$J$6)+$E39*3/4))*$F39+N39+O39/(Budgetark!$J$6) -> 0 | N39: =SUM(G39:J39)*ROUNDUP(C39*2,0)/2 -> 0 | O39: =SUM(G39:J39)*ROUNDUP(D39*2,0)/2 -> 0
A40: Lørdag | B40: Kl. 23-0 | F40: =+SUM($G$8:$H$8) -> 156.69 | H40: =+J8 -> 50.1408 | J40: =+L8 -> 62.676 | K40: =+M8 -> 117.5175 | L40: =SUM(F40:J40) -> 269.5068 | M40: =+($C40+($D40/(Budgetark!$J$6)+$E40*3/4))*$F40+N40+O40/(Budgetark!$J$6) -> 0 | N40: =SUM(G40:J40)*ROUNDUP(C40*2,0)/2 -> 0 | O40: =SUM(G40:J40)*ROUNDUP(D40*2,0)/2 -> 0
A42: Søndag | B42: Kl. 0-6 | F42: =+SUM($G$8:$H$8) -> 156.69 | G42: =+I8 -> 78.345 | J42: =+L8 -> 62.676 | K42: =+M8 -> 117.5175 | L42: =SUM(F42:J42) -> 297.711 | M42: =+($C42+($D42/(Budgetark!$J$6)+$E42*3/4))*$F42+N42+O42/(Budgetark!$J$6) -> 0 | N42: =SUM(G42:J42)*ROUNDUP(C42*2,0)/2 -> 0 | O42: =SUM(G42:J42)*ROUNDUP(D42*2,0)/2 -> 0
A43: Søndag | B43: Kl. 6-17 | F43: =+SUM($G$8:$H$8) -> 156.69 | G43: =+I8 -> 78.345 | K43: =+M8 -> 117.5175 | L43: =SUM(F43:J43) -> 235.035 | M43: =+($C43+($D43/(Budgetark!$J$6)+$E43*3/4))*$F43+N43+O43/(Budgetark!$J$6) -> 0 | N43: =SUM(G43:J43)*ROUNDUP(C43*2,0)/2 -> 0 | O43: =SUM(G43:J43)*ROUNDUP(D43*2,0)/2 -> 0
A44: Søndag | B44: Kl. 17-23 | F44: =+SUM($G$8:$H$8) -> 156.69 | G44: =+I8 -> 78.345 | I44: =+K8 -> 56.4084 | K44: =+M8 -> 117.5175 | L44: =SUM(F44:J44) -> 291.4434 | M44: =+($C44+($D44/(Budgetark!$J$6)+$E44*3/4))*$F44+N44+O44/(Budgetark!$J$6) -> 0 | N44: =SUM(G44:J44)*ROUNDUP(C44*2,0)/2 -> 0 | O44: =SUM(G44:J44)*ROUNDUP(D44*2,0)/2 -> 0
A45: Søndag | B45: Kl. 23-0 | F45: =+SUM($G$8:$H$8) -> 156.69 | G45: =+I8 -> 78.345 | J45: =+L8 -> 62.676 | K45: =+M8 -> 117.5175 | L45: =SUM(F45:J45) -> 297.711 | M45: =+($C45+($D45/(Budgetark!$J$6)+$E45*3/4))*$F45+N45+O45/(Budgetark!$J$6) -> 0 | N45: =SUM(G45:J45)*ROUNDUP(C45*2,0)/2 -> 0 | O45: =SUM(G45:J45)*ROUNDUP(D45*2,0)/2 -> 0
A46: Timer pr. uge | C46: =SUM(C12:C45) -> 0 | D46: =SUM(D12:D45) -> 0 | E46: =SUM(E12:E45) -> 0 | F46: =C46+E46+D46/(Budgetark!J6) -> 0 | G46: =C42+C43+C44+C45+(D42+D43+D44+D45)/(Budgetark!J6) -> 0 | H46: =C38+C39+C40+(D38+D39+D40)/(Budgetark!J6) -> 0 | I46: =C14+C24+C29+C34+C39+C44+C19+(D14+D24+D29+D34+D39+D44+D19)/(Budgetark!J6) -> 0 | J46: =C12+(D12+D15+D17+D20+D22+D25+D27+D30+D32+D35+D37+D40+D42+D45)/(Budgetark!J6)+C15+C17+C20+C22+C25+C27+C30+C32+C35+C37+C40+C42+C45 -> 0 | N46: =SUM(N12:N45) -> 0 | O46: =SUM(O12:O45) -> 0
F48: Timer/dag | G48: Helligd.
...

Sheet Budgetark
A1: Oversigtsark til kommunens budgetlægning
A3: Beregnet på baggrund af stedtillæg = | B3: =+'BPA-HHOK'!F4 -> 0 | C3: ='SOSU-OK'!F4 -> 0 | F3: BPA-HH beregning | I3: SOSU beregning
A4: Beregnet på baggrund af antal uger i periode. | F4: Timetabel | I4: Timetabel
B5: BPA-HHOK | C5: SOSU-OK | D5: Bemærkninger
A6: Grundløn | B6: =+('BPA-HHOK'!F46-'BPA-HHOK'!E46/4)*SUM('BPA-HHOK'!G8:H8)*G6 -> 0 | C6: =+('SOSU-OK'!F46-'SOSU-OK'!E46/4)*SUM('SOSU-OK'!G8:H8)*J6 -> 0 | D6: Løn puljetimer og rådighedstimer er inkl. her. | F6: Antal uger i periode | G6: =+('BPA-HHOK'!E6-'BPA-HHOK'!C6+1)/7 -> 52.142857 | I6: Antal uger i periode | J6: =+('SOSU-OK'!E6-'SOSU-OK'!C6+1)/7 -> 52.142857
A7: Særtillæg | B7: =+'BPA-HHOK'!N46*G6+'BPA-HHOK'!O46 -> 0 | C7: =+'SOSU-OK'!N46*J6+'SOSU-OK'!O46 -> 0 | D7: Særlige tillæg til timeløn, aften-, nat-, lørdags- og søndagstillæg | F7: Antal uger fra starttidspunkt og et år frem | G7: =+(DATE(YEAR('BPA-HHOK'!C6)+1,MONTH('BPA-HHOK'!C6),DAY('BPA-HHOK'!C6))-'BPA-HHOK'!C6)/7 -> 52.142857 | I7: Antal uger fra starttidspunkt og et år frem | J7: =+(DATE(YEAR('SOSU-OK'!C6)+1,MONTH('SOSU-OK'!C6),DAY('SOSU-OK'!C6))-'SOSU-OK'!C6)/7 -> 52.142857
A8: Personaletimer | B8: =+('BPA-HHOK'!M51)*G6 -> 0 | C8: =+SUM('SOSU-OK'!M51)*J6 -> 0 | D8: Personalemøder og MUS
A9: Oplæringstimer | B9: =+'BPA-HHOK'!M53*G6 -> #DIV/0! | C9: =+'SOSU-OK'!M53*J6 -> #DIV/0! | D9: Oplæringstimer | F9: Type af timer | G9: Antal timer pr periode | I9: Type af timer | J9: Antal timer pr periode
A10: S/H | B10: =+'BPA-HHOK'!M49*G6 -> 0 | C10: =+'SOSU-OK'!M49*J6 -> 0 | D10: 9 helligdage ved BPA-HHOK og ved SOSU-OK 11,5 dage inkl. særlige fridage | F10: Normtimer | G10: =+('BPA-HHOK'!C46+'BPA-HHOK'!E46)*G6 -> 0 | I10: Normtimer | J10: =+('SOSU-OK'!C46+'SOSU-OK'!E46)*J6 -> 0
A11: Grundløn samt tillæg i alt | B11: =SUM(B6:B10) -> #DIV/0! | C11: =SUM(C6:C10) -> #DIV/0! | F11: Heraf rådighedstimer | G11: =+'BPA-HHOK'!E46*G6 -> 0 | I11: Heraf rådighedstimer | J11: =+'SOSU-OK'!E46*J6 -> 0
A12: Ferie | B12: =+SUM('BPA-HHOK'!M57:M59)*G6 -> #DIV/0! | C12: =+SUM('SOSU-OK'!M57:M59)*J6 -> #DIV/0! | D12: Ferie jf. ferielov evt. inkl. 6. ferie, hvis det gives | F12: Puljetimer | G12: =+'BPA-HHOK'!D46 -> 0 | I12: Puljetimer | J12: =+'SOSU-OK'!D46 -> 0
A13: Lønmodtagernes Feriemidler | B13: =('BPA-HHOK'!M67)*G6 -> 0 | C13: =('SOSU-OK'!M67)*J6 -> 0 | F13: Personaletimer | G13: =+'BPA-HHOK'!E51*'BPA-HHOK'!F51*G6/G7 -> 0 | I13: Personaletimer | J13: =+'SOSU-OK'!E51*'SOSU-OK'!F51*J6/J7 -> 0
A14: Pension | B14: =+SUM('BPA-HHOK'!M61:M63)*G6 -> 0 | C14: =+SUM('SOSU-OK'!M61:M63)*J6 -> 0 | D14: Pension jf. overenskomst. | F14: Oplæringstimer | G14: =+'BPA-HHOK'!E53*'BPA-HHOK'!F53*G6/G7 -> 0 | I14: Oplæringstimer | J14: =+'SOSU-OK'!E53*'SOSU-OK'!F53*J6/J7 -> 0
A15: Lovpligtige bidrag | B15: =+'BPA-HHOK'!M65*G6 -> 0 | C15: =+'SOSU-OK'!M65*J6 -> 0 | D15: ATP, AES, AUB, AFU evt. FIB | F15: APV timer | G15: =+'BPA-HHOK'!E94*'BPA-HHOK'!F94*G6/G7 -> 0 | I15: APV timer | J15: =+'SOSU-OK'!E94*'SOSU-OK'!F94*J6/J7 -> 0
A16: Uddannelsesbidrag | B16: =+'BPA-HHOK'!M69*G6 -> 0 | C16: =+'SOSU-OK'!M69*J6 -> 0 | D16: BPA-HHOK: DA/LO. SOSU-OK: AKUT-bidrag | F16: Samlet timer årligt | G16: =SUM(G10:G15)-G11 -> 0 | I16: Samlet timer årligt | J16: =SUM(J10:J15)-J11 -> 0
A17: Vederlag forbliven i tjenesten+ ved AKUT-tilkald | B17: =+('BPA-HHOK'!M71+'BPA-HHOK'!M73)*G6 -> 0 | C17: =+('SOSU-OK'!M71+'SOSU-OK'!M73)*J6 -> 0
A18: Vederlag ved tilkald i rådighedstjeneste | B18: =+'BPA-HHOK'!M75*G6 -> 0 | C18: =+'SOSU-OK'!M75*J6 -> 0
A19: Ekskl. rummelighed | B19: =SUM(B11:B18) -> #DIV/0! | C19: =SUM(C11:C18) -> #DIV/0!
A20: Rummelighed | B20: =+'BPA-HHOK'!M80-'BPA-HHOK'!M79 -> #DIV/0! | C20: =+'SOSU-OK'!M80-'SOSU-OK'!M79 -> #DIV/0! | D20: KL's anbefaling 3,5%
A21: Løn inkl. rummelighed | B21: =SUM(B19:B20) -> #DIV/0! | C21: =SUM(C19:C20) -> #DIV/0!
A22: Barselsfond | B22: =+'BPA-HHOK'!M90 -> 0 | C22: =+'SOSU-OK'!M90 -> 0 | D22: Efter regning
A23: Forsikring | B23: =+'BPA-HHOK'!M92 -> 0 | C23: =+'SOSU-OK'!M92 -> 0 | D23: Efter regning
A24: APV hjælper timer | B24: =+'BPA-HHOK'!M94 -> 0 | C24: =+'SOSU-OK'!M94 -> 0 | D24: Efter regning.
A25: Inkl. udgifter efter regning til a conto | B25: =+SUM(B21:B24) -> #DIV/0! | C25: =+SUM(C21:C24) -> #DIV/0!
A26: APV udgift til ekstern konsulent | B26: =+SUM('BPA-HHOK'!M111:M115) -> 0 | C26: =+SUM('SOSU-OK'!M111:M115) -> 0 | D26: Efter regning.
A27: Sygdom | B27: =+'BPA-HHOK'!M105+'BPA-HHOK'!M107 -> #DIV/0! | C27: =+'SOSU-OK'!M105+'SOSU-OK'!M107 -> #DIV/0! | D27: Efter regning
A28: Praktikplads AUB | B28: ='BPA-HHOK'!M109 -> 0 | C28: ='SOSU-OK'!M109 -> 0
A29: Inkl andre udg. efter regning | B29: =SUM(B25:B28) -> #DIV/0! | C29: =SUM(C25:C28) -> #DIV/0!
A30: Administration arbejdsgiver | B30: =+'BPA-HHOK'!M86 -> #DIV/0! | C30: =+'SOSU-OK'!M86 -> #DIV/0!
A31: Lønadministration | B31: =+'BPA-HHOK'!M96 -> 0 | C31: =+'SOSU-OK'!M96 -> 0 | D31: Lønadministration (hvis 0 kr., så er omkostningen beregnet i særskilt beregner)
A32: Inkl. Administration | B32: =SUM(B29:B31) -> #DIV/0! | C32: =SUM(C29:C31) -> #DIV/0!
A34: Budget beløb i alt periodemæssigt | B34: =+B32 -> #DIV/0! | C34: =+C32 -> #DIV/0!
A35: Budget beløb i alt pr måned | B35: =+B34/(G6/(G7/12)) -> #DIV/0! | C35: =+C34/(J6/J7*12) -> #DIV/0!
A36: Heraf Sygdom efter regning | B36: =+B27 -> #DIV/0! | C36: =+C27 -> #DIV/0! | D36: Årligt
A37: Heraf APV udgift efter regning | B37: =+B26 -> 0 | C37: =+C26 -> 0 | D37: Årligt
A38: Budget beløb i alt til a conto månedligt | B38: =+(B34-B36-B37)/(G6/(G7/12)) -> #DIV/0! | C38: =+(C34-C36-C37)/(J6/(J7/12)) -> #DIV/0! | D38: Månedlig beløb i alt til a conto inkl. administration og ekskl. sygdom og APV udgift
A39: Løn inkl. rum gennemsnitlig timepris | B39: =+B21/(G16-G15) -> #DIV/0! | C39: =+C21/(J16-J15) -> #DIV/0!
